BEGIN:VCALENDAR
VERSION:2.0
PRODID:-//128 Productions - ECPv6.15.18//NONSGML v1.0//EN
CALSCALE:GREGORIAN
METHOD:PUBLISH
X-WR-CALNAME:128 Productions
X-ORIGINAL-URL:https://128productions.com
X-WR-CALDESC:Events for 128 Productions
REFRESH-INTERVAL;VALUE=DURATION:PT1H
X-Robots-Tag:noindex
X-PUBLISHED-TTL:PT1H
BEGIN:VTIMEZONE
TZID:America/Denver
BEGIN:DAYLIGHT
TZOFFSETFROM:-0700
TZOFFSETTO:-0600
TZNAME:MDT
DTSTART:20230312T090000
END:DAYLIGHT
BEGIN:STANDARD
TZOFFSETFROM:-0600
TZOFFSETTO:-0700
TZNAME:MST
DTSTART:20231105T080000
END:STANDARD
BEGIN:DAYLIGHT
TZOFFSETFROM:-0700
TZOFFSETTO:-0600
TZNAME:MDT
DTSTART:20240310T090000
END:DAYLIGHT
BEGIN:STANDARD
TZOFFSETFROM:-0600
TZOFFSETTO:-0700
TZNAME:MST
DTSTART:20241103T080000
END:STANDARD
BEGIN:DAYLIGHT
TZOFFSETFROM:-0700
TZOFFSETTO:-0600
TZNAME:MDT
DTSTART:20250309T090000
END:DAYLIGHT
BEGIN:STANDARD
TZOFFSETFROM:-0600
TZOFFSETTO:-0700
TZNAME:MST
DTSTART:20251102T080000
END:STANDARD
BEGIN:DAYLIGHT
TZOFFSETFROM:-0700
TZOFFSETTO:-0600
TZNAME:MDT
DTSTART:20260308T090000
END:DAYLIGHT
BEGIN:STANDARD
TZOFFSETFROM:-0600
TZOFFSETTO:-0700
TZNAME:MST
DTSTART:20261101T080000
END:STANDARD
BEGIN:DAYLIGHT
TZOFFSETFROM:-0700
TZOFFSETTO:-0600
TZNAME:MDT
DTSTART:20270314T090000
END:DAYLIGHT
BEGIN:STANDARD
TZOFFSETFROM:-0600
TZOFFSETTO:-0700
TZNAME:MST
DTSTART:20271107T080000
END:STANDARD
END:VTIMEZONE
BEGIN:VEVENT
DTSTART;TZID=America/Denver:20260102T210000
DTEND;TZID=America/Denver:20260103T013000
DTSTAMP:20260423T152449
CREATED:20250723T185106Z
LAST-MODIFIED:20250723T185106Z
UID:10000165-1767387600-1767403800@128productions.com
SUMMARY:Worakls
DESCRIPTION:
URL:https://128productions.com/event/worakls/
LOCATION:Bluebird Theatre\, 3317 E Colfax Ave\, Denver\, 80206
ATTACH;FMTTYPE=image/jpeg:https://128productions.com/wp-content/uploads/2025/07/Worakls_1080x1350.jpg
END:VEVENT
BEGIN:VEVENT
DTSTART;TZID=America/Denver:20251108T200000
DTEND;TZID=America/Denver:20251109T013000
DTSTAMP:20260423T152449
CREATED:20251027T171732Z
LAST-MODIFIED:20251027T171732Z
UID:10000180-1762632000-1762651800@128productions.com
SUMMARY:Zulan
DESCRIPTION:
URL:https://128productions.com/event/zulan/
LOCATION:Bluebird Theatre\, 3317 E Colfax Ave\, Denver\, 80206
ATTACH;FMTTYPE=image/jpeg:https://128productions.com/wp-content/uploads/2025/10/Zulan_1080x1350-scaled.jpg
END:VEVENT
BEGIN:VEVENT
DTSTART;TZID=America/Denver:20251101T210000
DTEND;TZID=America/Denver:20251102T010000
DTSTAMP:20260423T152449
CREATED:20250128T012836Z
LAST-MODIFIED:20250515T212131Z
UID:10000108-1762030800-1762045200@128productions.com
SUMMARY:Austin Millz
DESCRIPTION:
URL:https://128productions.com/event/austin-millz/
LOCATION:Bluebird Theatre\, 3317 E Colfax Ave\, Denver\, 80206
ATTACH;FMTTYPE=image/jpeg:https://128productions.com/wp-content/uploads/2025/01/AustinMillz_2025_Bluebird_1080x1350.jpg
END:VEVENT
BEGIN:VEVENT
DTSTART;TZID=America/Denver:20250919T200000
DTEND;TZID=America/Denver:20250920T020000
DTSTAMP:20260423T152449
CREATED:20250617T200404Z
LAST-MODIFIED:20250617T200404Z
UID:10000152-1758312000-1758333600@128productions.com
SUMMARY:Nimino
DESCRIPTION:
URL:https://128productions.com/event/nimino/
LOCATION:Bluebird Theatre\, 3317 E Colfax Ave\, Denver\, 80206
ATTACH;FMTTYPE=image/jpeg:https://128productions.com/wp-content/uploads/2025/06/Nimino_1080x1350.jpg
END:VEVENT
BEGIN:VEVENT
DTSTART;TZID=America/Denver:20250725T200000
DTEND;TZID=America/Denver:20250726T013000
DTSTAMP:20260423T152449
CREATED:20250710T184212Z
LAST-MODIFIED:20250710T184212Z
UID:10000161-1753473600-1753493400@128productions.com
SUMMARY:Gilligan Moss & Bad Tuner
DESCRIPTION:
URL:https://128productions.com/event/gilligan-moss-bad-tuner/
LOCATION:Bluebird Theatre\, 3317 E Colfax Ave\, Denver\, 80206
ATTACH;FMTTYPE=image/jpeg:https://128productions.com/wp-content/uploads/2025/07/GilliganMoss_BadTuner_1080x1350.jpg
END:VEVENT
BEGIN:VEVENT
DTSTART;TZID=America/Denver:20250530T210000
DTEND;TZID=America/Denver:20250531T020000
DTSTAMP:20260423T152449
CREATED:20250305T163123Z
LAST-MODIFIED:20250305T163123Z
UID:10000119-1748638800-1748656800@128productions.com
SUMMARY:Westend
DESCRIPTION:
URL:https://128productions.com/event/westend/
LOCATION:Bluebird Theatre\, 3317 E Colfax Ave\, Denver\, 80206
ATTACH;FMTTYPE=image/jpeg:https://128productions.com/wp-content/uploads/2025/03/Westend_1080x1350.jpg
END:VEVENT
BEGIN:VEVENT
DTSTART;TZID=America/Denver:20250315T210000
DTEND;TZID=America/Denver:20250315T233000
DTSTAMP:20260423T152449
CREATED:20241119T231314Z
LAST-MODIFIED:20241119T231314Z
UID:10000092-1742072400-1742081400@128productions.com
SUMMARY:Qrion
DESCRIPTION:
URL:https://128productions.com/event/qrion/
LOCATION:Bluebird Theatre\, 3317 E Colfax Ave\, Denver\, 80206
ATTACH;FMTTYPE=image/jpeg:https://128productions.com/wp-content/uploads/2024/11/QRION_1200x1200.jpg
END:VEVENT
BEGIN:VEVENT
DTSTART;TZID=America/Denver:20250118T210000
DTEND;TZID=America/Denver:20250118T233000
DTSTAMP:20260423T152449
CREATED:20250109T190130Z
LAST-MODIFIED:20250109T190130Z
UID:10000103-1737234000-1737243000@128productions.com
SUMMARY:Gabriel & Dresden
DESCRIPTION:
URL:https://128productions.com/event/gabriel-dresden/
LOCATION:Bluebird Theatre\, 3317 E Colfax Ave\, Denver\, 80206
END:VEVENT
BEGIN:VEVENT
DTSTART;TZID=America/Denver:20241228T210000
DTEND;TZID=America/Denver:20241228T233000
DTSTAMP:20260423T152449
CREATED:20240813T040512Z
LAST-MODIFIED:20240815T024453Z
UID:10000068-1735419600-1735428600@128productions.com
SUMMARY:Luttrell
DESCRIPTION:
URL:https://128productions.com/event/luttrell/
LOCATION:Bluebird Theatre\, 3317 E Colfax Ave\, Denver\, 80206
ATTACH;FMTTYPE=image/jpeg:https://128productions.com/wp-content/uploads/2024/08/Luttrell_1200x1200-1.jpg
END:VEVENT
BEGIN:VEVENT
DTSTART;TZID=America/Denver:20241116T210000
DTEND;TZID=America/Denver:20241116T233000
DTSTAMP:20260423T152449
CREATED:20240809T050244Z
LAST-MODIFIED:20241104T210403Z
UID:10000067-1731790800-1731799800@128productions.com
SUMMARY:AYYBO
DESCRIPTION:
URL:https://128productions.com/event/ayybo/
LOCATION:Bluebird Theatre\, 3317 E Colfax Ave\, Denver\, 80206
ATTACH;FMTTYPE=image/jpeg:https://128productions.com/wp-content/uploads/2024/08/Ayyboo_1200x1200-scaled.jpg
END:VEVENT
BEGIN:VEVENT
DTSTART;TZID=America/Denver:20241115T210000
DTEND;TZID=America/Denver:20241115T233000
DTSTAMP:20260423T152449
CREATED:20241016T055443Z
LAST-MODIFIED:20241016T055443Z
UID:10000081-1731704400-1731713400@128productions.com
SUMMARY:Torren Foot
DESCRIPTION:
URL:https://128productions.com/event/torren-foot/
LOCATION:Bluebird Theatre\, 3317 E Colfax Ave\, Denver\, 80206
ATTACH;FMTTYPE=image/jpeg:https://128productions.com/wp-content/uploads/2024/10/TorrenFoot_1200x1200.jpg
END:VEVENT
BEGIN:VEVENT
DTSTART;TZID=America/Denver:20240712T210000
DTEND;TZID=America/Denver:20240713T000000
DTSTAMP:20260423T152449
CREATED:20240405T015931Z
LAST-MODIFIED:20240425T214935Z
UID:10000019-1720818000-1720828800@128productions.com
SUMMARY:Genix
DESCRIPTION:
URL:https://128productions.com/event/genix/
LOCATION:Bluebird Theatre\, 3317 E Colfax Ave\, Denver\, 80206
CATEGORIES:Nightlife
ATTACH;FMTTYPE=image/jpeg:https://128productions.com/wp-content/uploads/2024/03/Genix_1200x1200-1.jpg
END:VEVENT
END:VCALENDAR