BEGIN:VCALENDAR
VERSION:2.0
PRODID:-//128 Productions - ECPv6.15.18//NONSGML v1.0//EN
CALSCALE:GREGORIAN
METHOD:PUBLISH
X-WR-CALNAME:128 Productions
X-ORIGINAL-URL:https://128productions.com
X-WR-CALDESC:Events for 128 Productions
REFRESH-INTERVAL;VALUE=DURATION:PT1H
X-Robots-Tag:noindex
X-PUBLISHED-TTL:PT1H
BEGIN:VTIMEZONE
TZID:America/Denver
BEGIN:DAYLIGHT
TZOFFSETFROM:-0700
TZOFFSETTO:-0600
TZNAME:MDT
DTSTART:20230312T090000
END:DAYLIGHT
BEGIN:STANDARD
TZOFFSETFROM:-0600
TZOFFSETTO:-0700
TZNAME:MST
DTSTART:20231105T080000
END:STANDARD
BEGIN:DAYLIGHT
TZOFFSETFROM:-0700
TZOFFSETTO:-0600
TZNAME:MDT
DTSTART:20240310T090000
END:DAYLIGHT
BEGIN:STANDARD
TZOFFSETFROM:-0600
TZOFFSETTO:-0700
TZNAME:MST
DTSTART:20241103T080000
END:STANDARD
BEGIN:DAYLIGHT
TZOFFSETFROM:-0700
TZOFFSETTO:-0600
TZNAME:MDT
DTSTART:20250309T090000
END:DAYLIGHT
BEGIN:STANDARD
TZOFFSETFROM:-0600
TZOFFSETTO:-0700
TZNAME:MST
DTSTART:20251102T080000
END:STANDARD
BEGIN:DAYLIGHT
TZOFFSETFROM:-0700
TZOFFSETTO:-0600
TZNAME:MDT
DTSTART:20260308T090000
END:DAYLIGHT
BEGIN:STANDARD
TZOFFSETFROM:-0600
TZOFFSETTO:-0700
TZNAME:MST
DTSTART:20261101T080000
END:STANDARD
BEGIN:DAYLIGHT
TZOFFSETFROM:-0700
TZOFFSETTO:-0600
TZNAME:MDT
DTSTART:20270314T090000
END:DAYLIGHT
BEGIN:STANDARD
TZOFFSETFROM:-0600
TZOFFSETTO:-0700
TZNAME:MST
DTSTART:20271107T080000
END:STANDARD
END:VTIMEZONE
BEGIN:VEVENT
DTSTART;TZID=America/Denver:20260404T200000
DTEND;TZID=America/Denver:20260405T010000
DTSTAMP:20260424T122611
CREATED:20251119T214226Z
LAST-MODIFIED:20251119T214226Z
UID:10000186-1775332800-1775350800@128productions.com
SUMMARY:Mindchatter
DESCRIPTION:
URL:https://128productions.com/event/mindchatter/
LOCATION:Mission Ballroom\, 4242 Wynkoop St\, Denver\, 80216
ATTACH;FMTTYPE=image/jpeg:https://128productions.com/wp-content/uploads/2025/11/Mindchatter_2026_Mission_1080x1350.jpg
END:VEVENT
BEGIN:VEVENT
DTSTART;TZID=America/Denver:20260403T210000
DTEND;TZID=America/Denver:20260404T013000
DTSTAMP:20260424T122611
CREATED:20260209T232915Z
LAST-MODIFIED:20260209T232915Z
UID:10000211-1775250000-1775266200@128productions.com
SUMMARY:¥ØU$UK€ ¥UK1MAT$U
DESCRIPTION:
URL:https://128productions.com/event/%c2%a5ouuke-%c2%a5uk1matu/
LOCATION:Mission Ballroom\, 4242 Wynkoop St\, Denver\, 80216
ATTACH;FMTTYPE=image/jpeg:https://128productions.com/wp-content/uploads/2026/02/YousukeYukimatsu_2026_Mission_1080x1350.jpg
END:VEVENT
BEGIN:VEVENT
DTSTART;TZID=America/Denver:20260314T200000
DTEND;TZID=America/Denver:20260315T013000
DTSTAMP:20260424T122611
CREATED:20251119T215414Z
LAST-MODIFIED:20251119T215414Z
UID:10000190-1773518400-1773538200@128productions.com
SUMMARY:Max Styler
DESCRIPTION:
URL:https://128productions.com/event/max-styler-2/
LOCATION:Mission Ballroom\, 4242 Wynkoop St\, Denver\, 80216
ATTACH;FMTTYPE=image/jpeg:https://128productions.com/wp-content/uploads/2025/11/MaxStyler_2026_Mission_1080x1350.jpg
END:VEVENT
BEGIN:VEVENT
DTSTART;TZID=America/Denver:20260221T210000
DTEND;TZID=America/Denver:20260222T013000
DTSTAMP:20260424T122611
CREATED:20260120T202554Z
LAST-MODIFIED:20260120T202554Z
UID:10000200-1771707600-1771723800@128productions.com
SUMMARY:SIDEPIECE
DESCRIPTION:
URL:https://128productions.com/event/sidepiece-2/
LOCATION:Mission Ballroom\, 4242 Wynkoop St\, Denver\, 80216
ATTACH;FMTTYPE=image/jpeg:https://128productions.com/wp-content/uploads/2025/12/Sidepiece_2026_Mission_1080x1440-1.jpg
END:VEVENT
BEGIN:VEVENT
DTSTART;TZID=America/Denver:20260213T200000
DTEND;TZID=America/Denver:20260214T013000
DTSTAMP:20260424T122611
CREATED:20251119T215236Z
LAST-MODIFIED:20251119T215720Z
UID:10000189-1771012800-1771032600@128productions.com
SUMMARY:The Martinez Brothers
DESCRIPTION:
URL:https://128productions.com/event/the-martinez-brothers/
LOCATION:Mission Ballroom\, 4242 Wynkoop St\, Denver\, 80216
ATTACH;FMTTYPE=image/jpeg:https://128productions.com/wp-content/uploads/2025/11/TheMartinezBrothers_2026_Mission_1080x1350.jpg
END:VEVENT
BEGIN:VEVENT
DTSTART;TZID=America/Denver:20260207T200000
DTEND;TZID=America/Denver:20260208T020000
DTSTAMP:20260424T122611
CREATED:20250923T165732Z
LAST-MODIFIED:20250923T165732Z
UID:10000173-1770494400-1770516000@128productions.com
SUMMARY:Chris Lorenzo
DESCRIPTION:
URL:https://128productions.com/event/chris-lorenzo/
LOCATION:Mission Ballroom\, 4242 Wynkoop St\, Denver\, 80216
ATTACH;FMTTYPE=image/jpeg:https://128productions.com/wp-content/uploads/2025/09/ChrisLorenzo_2026_Mission_1080x1350.jpg
END:VEVENT
BEGIN:VEVENT
DTSTART;TZID=America/Denver:20260206T200000
DTEND;TZID=America/Denver:20260207T020000
DTSTAMP:20260424T122611
CREATED:20250801T025828Z
LAST-MODIFIED:20250801T025828Z
UID:10000166-1770408000-1770429600@128productions.com
SUMMARY:Adventure Club
DESCRIPTION:
URL:https://128productions.com/event/adventure-club/
LOCATION:Mission Ballroom\, 4242 Wynkoop St\, Denver\, 80216
ATTACH;FMTTYPE=image/jpeg:https://128productions.com/wp-content/uploads/2025/07/AdventureClub_2026_Mission_Blue_1080x1440.jpg
END:VEVENT
BEGIN:VEVENT
DTSTART;TZID=America/Denver:20260130T200000
DTEND;TZID=America/Denver:20260131T020000
DTSTAMP:20260424T122611
CREATED:20251015T181033Z
LAST-MODIFIED:20251015T181033Z
UID:10000179-1769803200-1769824800@128productions.com
SUMMARY:Ship Wrek
DESCRIPTION:
URL:https://128productions.com/event/ship-wrek/
LOCATION:Mission Ballroom\, 4242 Wynkoop St\, Denver\, 80216
ATTACH;FMTTYPE=image/jpeg:https://128productions.com/wp-content/uploads/2025/10/ShipWrek_2026_Mission_1080x1440.jpg
END:VEVENT
BEGIN:VEVENT
DTSTART;TZID=America/Denver:20260103T200000
DTEND;TZID=America/Denver:20260104T013000
DTSTAMP:20260424T122611
CREATED:20251015T180233Z
LAST-MODIFIED:20251015T180233Z
UID:10000176-1767470400-1767490200@128productions.com
SUMMARY:Nora En Pure
DESCRIPTION:
URL:https://128productions.com/event/nora-en-pure-2/
LOCATION:Mission Ballroom\, 4242 Wynkoop St\, Denver\, 80216
ATTACH;FMTTYPE=image/jpeg:https://128productions.com/wp-content/uploads/2025/10/NoraEnPure_2026_Mission_1080x1350.jpg
END:VEVENT
BEGIN:VEVENT
DTSTART;TZID=America/Denver:20251206T210000
DTEND;TZID=America/Denver:20251207T020000
DTSTAMP:20260424T122611
CREATED:20250801T030312Z
LAST-MODIFIED:20250908T223222Z
UID:10000168-1765054800-1765072800@128productions.com
SUMMARY:Duke Dumont
DESCRIPTION:
URL:https://128productions.com/event/duke-dumont/
LOCATION:Mission Ballroom\, 4242 Wynkoop St\, Denver\, 80216
ATTACH;FMTTYPE=image/jpeg:https://128productions.com/wp-content/uploads/2025/07/DukeDumont_2025_Mission_1080x1350.jpg
END:VEVENT
BEGIN:VEVENT
DTSTART;TZID=America/Denver:20251121T200000
DTEND;TZID=America/Denver:20251122T013000
DTSTAMP:20260424T122611
CREATED:20250429T191203Z
LAST-MODIFIED:20250429T191203Z
UID:10000143-1763755200-1763775000@128productions.com
SUMMARY:Levity
DESCRIPTION:
URL:https://128productions.com/event/levity/
LOCATION:Mission Ballroom\, 4242 Wynkoop St\, Denver\, 80216
ATTACH;FMTTYPE=image/jpeg:https://128productions.com/wp-content/uploads/2025/04/Levity_2025_Mission_1080x1350.jpg
END:VEVENT
BEGIN:VEVENT
DTSTART;TZID=America/Denver:20251031T200000
DTEND;TZID=America/Denver:20251101T013000
DTSTAMP:20260424T122611
CREATED:20250409T161309Z
LAST-MODIFIED:20250409T161309Z
UID:10000138-1761940800-1761960600@128productions.com
SUMMARY:Cloonee
DESCRIPTION:
URL:https://128productions.com/event/cloonee-2/
LOCATION:Mission Ballroom\, 4242 Wynkoop St\, Denver\, 80216
ATTACH;FMTTYPE=image/jpeg:https://128productions.com/wp-content/uploads/2025/04/Cloonee_1080x1350.jpg
END:VEVENT
BEGIN:VEVENT
DTSTART;TZID=America/Denver:20251030T220000
DTEND;TZID=America/Denver:20251031T013000
DTSTAMP:20260424T122611
CREATED:20250409T155334Z
LAST-MODIFIED:20250409T155334Z
UID:10000136-1761861600-1761874200@128productions.com
SUMMARY:Worship - Red Rocks Afterparty
DESCRIPTION:
URL:https://128productions.com/event/worship-red-rocks-afterparty/
LOCATION:Mission Ballroom\, 4242 Wynkoop St\, Denver\, 80216
ATTACH;FMTTYPE=image/jpeg:https://128productions.com/wp-content/uploads/2025/04/Worship_2025_RRX_1080x1350.jpg
END:VEVENT
BEGIN:VEVENT
DTSTART;TZID=America/Denver:20251021T200000
DTEND;TZID=America/Denver:20251022T013000
DTSTAMP:20260424T122611
CREATED:20250710T173208Z
LAST-MODIFIED:20250710T173208Z
UID:10000160-1761076800-1761096600@128productions.com
SUMMARY:Purity Ring
DESCRIPTION:
URL:https://128productions.com/event/purity-ring/
LOCATION:Mission Ballroom\, 4242 Wynkoop St\, Denver\, 80216
ATTACH;FMTTYPE=image/jpeg:https://128productions.com/wp-content/uploads/2025/07/PurityRing_1080x1350.jpg
END:VEVENT
BEGIN:VEVENT
DTSTART;TZID=America/Denver:20251018T210000
DTEND;TZID=America/Denver:20251019T020000
DTSTAMP:20260424T122611
CREATED:20250801T030620Z
LAST-MODIFIED:20250801T030620Z
UID:10000169-1760821200-1760839200@128productions.com
SUMMARY:SG Lewis
DESCRIPTION:
URL:https://128productions.com/event/sg-lewis/
LOCATION:Mission Ballroom\, 4242 Wynkoop St\, Denver\, 80216
ATTACH;FMTTYPE=image/jpeg:https://128productions.com/wp-content/uploads/2025/07/SGLewis_2025_Mission_1080x1350.jpg
END:VEVENT
BEGIN:VEVENT
DTSTART;TZID=America/Denver:20251004T200000
DTEND;TZID=America/Denver:20251005T013000
DTSTAMP:20260424T122611
CREATED:20250409T161144Z
LAST-MODIFIED:20250409T161144Z
UID:10000137-1759608000-1759627800@128productions.com
SUMMARY:it's murph
DESCRIPTION:
URL:https://128productions.com/event/its-murph-2/
LOCATION:Mission Ballroom\, 4242 Wynkoop St\, Denver\, 80216
ATTACH;FMTTYPE=image/jpeg:https://128productions.com/wp-content/uploads/2025/04/1080x1350.jpg
END:VEVENT
BEGIN:VEVENT
DTSTART;TZID=America/Denver:20251002T200000
DTEND;TZID=America/Denver:20251003T020000
DTSTAMP:20260424T122611
CREATED:20250617T201502Z
LAST-MODIFIED:20250617T201502Z
UID:10000155-1759435200-1759456800@128productions.com
SUMMARY:Deorro
DESCRIPTION:
URL:https://128productions.com/event/deorro/
LOCATION:Mission Ballroom\, 4242 Wynkoop St\, Denver\, 80216
ATTACH;FMTTYPE=image/jpeg:https://128productions.com/wp-content/uploads/2025/06/Deorro_2025_Mission_1080x1350.jpg
END:VEVENT
BEGIN:VEVENT
DTSTART;TZID=America/Denver:20250926T200000
DTEND;TZID=America/Denver:20250927T020000
DTSTAMP:20260424T122611
CREATED:20250617T201626Z
LAST-MODIFIED:20250617T201626Z
UID:10000156-1758916800-1758938400@128productions.com
SUMMARY:Deathpact
DESCRIPTION:
URL:https://128productions.com/event/deathpact/
LOCATION:Mission Ballroom\, 4242 Wynkoop St\, Denver\, 80216
ATTACH;FMTTYPE=image/jpeg:https://128productions.com/wp-content/uploads/2025/06/DPMission-1080x1350-1.jpg
END:VEVENT
BEGIN:VEVENT
DTSTART;TZID=America/Denver:20250523T200000
DTEND;TZID=America/Denver:20250523T233000
DTSTAMP:20260424T122611
CREATED:20241016T055141Z
LAST-MODIFIED:20250516T003407Z
UID:10000080-1748030400-1748043000@128productions.com
SUMMARY:Malaa
DESCRIPTION:
URL:https://128productions.com/event/malaa/
LOCATION:Mission Ballroom\, 4242 Wynkoop St\, Denver\, 80216
ATTACH;FMTTYPE=image/jpeg:https://128productions.com/wp-content/uploads/2024/10/Malaa_2025_Mission_V3_1080x1350.jpg
END:VEVENT
BEGIN:VEVENT
DTSTART;TZID=America/Denver:20250408T200000
DTEND;TZID=America/Denver:20250408T233000
DTSTAMP:20260424T122611
CREATED:20241016T054628Z
LAST-MODIFIED:20241104T210557Z
UID:10000079-1744142400-1744155000@128productions.com
SUMMARY:Ben Böhmer
DESCRIPTION:
URL:https://128productions.com/event/ben-bohmer/
LOCATION:Mission Ballroom\, 4242 Wynkoop St\, Denver\, 80216
ATTACH;FMTTYPE=image/jpeg:https://128productions.com/wp-content/uploads/2024/10/BenBohmer_2025_Mission_564x564.jpg
END:VEVENT
BEGIN:VEVENT
DTSTART;TZID=America/Denver:20250405T200000
DTEND;TZID=America/Denver:20250405T233000
DTSTAMP:20260424T122611
CREATED:20241023T071554Z
LAST-MODIFIED:20241023T071554Z
UID:10000083-1743883200-1743895800@128productions.com
SUMMARY:Gareth Emery
DESCRIPTION:
URL:https://128productions.com/event/gareth-emery/
LOCATION:Mission Ballroom\, 4242 Wynkoop St\, Denver\, 80216
ATTACH;FMTTYPE=image/jpeg:https://128productions.com/wp-content/uploads/2024/10/GarethEmery_2025_Mission_564x564.jpg
END:VEVENT
BEGIN:VEVENT
DTSTART;TZID=America/Denver:20250314T180000
DTEND;TZID=America/Denver:20250314T233000
DTSTAMP:20260424T122611
CREATED:20250109T185159Z
LAST-MODIFIED:20250109T185159Z
UID:10000100-1741975200-1741995000@128productions.com
SUMMARY:Eric Prydz
DESCRIPTION:
URL:https://128productions.com/event/eric-prydz/
LOCATION:Mission Ballroom\, 4242 Wynkoop St\, Denver\, 80216
END:VEVENT
BEGIN:VEVENT
DTSTART;TZID=America/Denver:20250221T210000
DTEND;TZID=America/Denver:20250221T233000
DTSTAMP:20260424T122611
CREATED:20240916T230547Z
LAST-MODIFIED:20240916T230730Z
UID:10000077-1740171600-1740180600@128productions.com
SUMMARY:Alan Walker
DESCRIPTION:
URL:https://128productions.com/event/alan-walker/
LOCATION:Mission Ballroom\, 4242 Wynkoop St\, Denver\, 80216
ATTACH;FMTTYPE=image/jpeg:https://128productions.com/wp-content/uploads/2024/09/AlanWalker_2025_Mission_564x564.jpg
END:VEVENT
BEGIN:VEVENT
DTSTART;TZID=America/Denver:20250220T200000
DTEND;TZID=America/Denver:20250220T233000
DTSTAMP:20260424T122611
CREATED:20241030T170431Z
LAST-MODIFIED:20241030T170431Z
UID:10000086-1740081600-1740094200@128productions.com
SUMMARY:San Holo
DESCRIPTION:
URL:https://128productions.com/event/san-holo/
LOCATION:Mission Ballroom\, 4242 Wynkoop St\, Denver\, 80216
ATTACH;FMTTYPE=image/jpeg:https://128productions.com/wp-content/uploads/2024/10/SanHolo_2025_Mission_564x564.jpg
END:VEVENT
BEGIN:VEVENT
DTSTART;TZID=America/Denver:20250214T210000
DTEND;TZID=America/Denver:20250214T233000
DTSTAMP:20260424T122611
CREATED:20241115T205346Z
LAST-MODIFIED:20241115T205346Z
UID:10000089-1739566800-1739575800@128productions.com
SUMMARY:Knock2
DESCRIPTION:
URL:https://128productions.com/event/knock2/
LOCATION:Mission Ballroom\, 4242 Wynkoop St\, Denver\, 80216
ATTACH;FMTTYPE=image/jpeg:https://128productions.com/wp-content/uploads/2024/11/Knock2_2025_Mission_564x564.jpg
END:VEVENT
BEGIN:VEVENT
DTSTART;TZID=America/Denver:20250131T200000
DTEND;TZID=America/Denver:20250131T233000
DTSTAMP:20260424T122611
CREATED:20240821T175655Z
LAST-MODIFIED:20241209T062046Z
UID:10000072-1738353600-1738366200@128productions.com
SUMMARY:Sultan + Shepard (Live)
DESCRIPTION:
URL:https://128productions.com/event/sultan-shepard-live/
LOCATION:Mission Ballroom\, 4242 Wynkoop St\, Denver\, 80216
ATTACH;FMTTYPE=image/jpeg:https://128productions.com/wp-content/uploads/2024/08/SultanShepard_2025_Mission_564x564-1.jpg
END:VEVENT
BEGIN:VEVENT
DTSTART;TZID=America/Denver:20241221T190000
DTEND;TZID=America/Denver:20241221T233000
DTSTAMP:20260424T122611
CREATED:20240611T055250Z
LAST-MODIFIED:20241115T205110Z
UID:10000046-1734807600-1734823800@128productions.com
SUMMARY:Sidepiece + Shiba San x CID
DESCRIPTION:
URL:https://128productions.com/event/sidepiece/
LOCATION:Mission Ballroom\, 4242 Wynkoop St\, Denver\, 80216
ATTACH;FMTTYPE=image/jpeg:https://128productions.com/wp-content/uploads/2024/06/SIDEPIECE_2024_Mission_V2_WithSupport_564x564.jpg
END:VEVENT
BEGIN:VEVENT
DTSTART;TZID=America/Denver:20241130T200000
DTEND;TZID=America/Denver:20241130T233000
DTSTAMP:20260424T122611
CREATED:20240625T064818Z
LAST-MODIFIED:20241031T192533Z
UID:10000052-1732996800-1733009400@128productions.com
SUMMARY:LP Giobbi
DESCRIPTION:
URL:https://128productions.com/event/lp-giobbi/
LOCATION:Mission Ballroom\, 4242 Wynkoop St\, Denver\, 80216
ATTACH;FMTTYPE=image/jpeg:https://128productions.com/wp-content/uploads/2024/06/LPGiobbi_564x564.jpg
END:VEVENT
BEGIN:VEVENT
DTSTART;TZID=America/Denver:20241129T200000
DTEND;TZID=America/Denver:20241129T233000
DTSTAMP:20260424T122611
CREATED:20240911T143834Z
LAST-MODIFIED:20240911T143834Z
UID:10000076-1732910400-1732923000@128productions.com
SUMMARY:Chase & Status
DESCRIPTION:
URL:https://128productions.com/event/chase-status/
LOCATION:Mission Ballroom\, 4242 Wynkoop St\, Denver\, 80216
ATTACH;FMTTYPE=image/jpeg:https://128productions.com/wp-content/uploads/2024/09/ChaseStatus_2024_Mission_1200x1200.jpg
END:VEVENT
BEGIN:VEVENT
DTSTART;TZID=America/Denver:20241108T200000
DTEND;TZID=America/Denver:20241109T000000
DTSTAMP:20260424T122611
CREATED:20240405T020029Z
LAST-MODIFIED:20241104T210759Z
UID:10000029-1731096000-1731110400@128productions.com
SUMMARY:Mau P (BADDEST BEHAVIOR)
DESCRIPTION:
URL:https://128productions.com/event/mau-p-baddest-behavior/
LOCATION:Mission Ballroom\, 4242 Wynkoop St\, Denver\, 80216
CATEGORIES:Nightlife
ATTACH;FMTTYPE=image/jpeg:https://128productions.com/wp-content/uploads/2024/03/BB-DENVER_564x564-1.jpg
END:VEVENT
END:VCALENDAR