BEGIN:VCALENDAR
VERSION:2.0
PRODID:-//128 Productions - ECPv6.15.18//NONSGML v1.0//EN
CALSCALE:GREGORIAN
METHOD:PUBLISH
X-WR-CALNAME:128 Productions
X-ORIGINAL-URL:https://128productions.com
X-WR-CALDESC:Events for 128 Productions
REFRESH-INTERVAL;VALUE=DURATION:PT1H
X-Robots-Tag:noindex
X-PUBLISHED-TTL:PT1H
BEGIN:VTIMEZONE
TZID:America/Denver
BEGIN:DAYLIGHT
TZOFFSETFROM:-0700
TZOFFSETTO:-0600
TZNAME:MDT
DTSTART:20230312T090000
END:DAYLIGHT
BEGIN:STANDARD
TZOFFSETFROM:-0600
TZOFFSETTO:-0700
TZNAME:MST
DTSTART:20231105T080000
END:STANDARD
BEGIN:DAYLIGHT
TZOFFSETFROM:-0700
TZOFFSETTO:-0600
TZNAME:MDT
DTSTART:20240310T090000
END:DAYLIGHT
BEGIN:STANDARD
TZOFFSETFROM:-0600
TZOFFSETTO:-0700
TZNAME:MST
DTSTART:20241103T080000
END:STANDARD
BEGIN:DAYLIGHT
TZOFFSETFROM:-0700
TZOFFSETTO:-0600
TZNAME:MDT
DTSTART:20250309T090000
END:DAYLIGHT
BEGIN:STANDARD
TZOFFSETFROM:-0600
TZOFFSETTO:-0700
TZNAME:MST
DTSTART:20251102T080000
END:STANDARD
BEGIN:DAYLIGHT
TZOFFSETFROM:-0700
TZOFFSETTO:-0600
TZNAME:MDT
DTSTART:20260308T090000
END:DAYLIGHT
BEGIN:STANDARD
TZOFFSETFROM:-0600
TZOFFSETTO:-0700
TZNAME:MST
DTSTART:20261101T080000
END:STANDARD
BEGIN:DAYLIGHT
TZOFFSETFROM:-0700
TZOFFSETTO:-0600
TZNAME:MDT
DTSTART:20270314T090000
END:DAYLIGHT
BEGIN:STANDARD
TZOFFSETFROM:-0600
TZOFFSETTO:-0700
TZNAME:MST
DTSTART:20271107T080000
END:STANDARD
END:VTIMEZONE
BEGIN:VEVENT
DTSTART;TZID=America/Denver:20260307T200000
DTEND;TZID=America/Denver:20260308T013000
DTSTAMP:20260423T101647
CREATED:20251027T171935Z
LAST-MODIFIED:20251027T171935Z
UID:10000181-1772913600-1772933400@128productions.com
SUMMARY:Vandelux
DESCRIPTION:
URL:https://128productions.com/event/vandelux/
LOCATION:Ogden Theatre\, 935 E Colfax Ave\, Denver\, 80218
ATTACH;FMTTYPE=image/jpeg:https://128productions.com/wp-content/uploads/2025/10/Vandelux_1080x1350.jpg
END:VEVENT
BEGIN:VEVENT
DTSTART;TZID=America/Denver:20251206T200000
DTEND;TZID=America/Denver:20251207T013000
DTSTAMP:20260423T101647
CREATED:20250715T192127Z
LAST-MODIFIED:20250908T223529Z
UID:10000163-1765051200-1765071000@128productions.com
SUMMARY:Layton Giordani
DESCRIPTION:
URL:https://128productions.com/event/layton-giordani/
LOCATION:Ogden Theatre\, 935 E Colfax Ave\, Denver\, 80218
ATTACH;FMTTYPE=image/jpeg:https://128productions.com/wp-content/uploads/2025/07/LaytonGiordani_1080x1350.jpg
END:VEVENT
BEGIN:VEVENT
DTSTART;TZID=America/Denver:20251101T200000
DTEND;TZID=America/Denver:20251102T013000
DTSTAMP:20260423T101647
CREATED:20250620T183202Z
LAST-MODIFIED:20250620T183202Z
UID:10000158-1762027200-1762047000@128productions.com
SUMMARY:AYYBO
DESCRIPTION:
URL:https://128productions.com/event/ayybo-3/
LOCATION:Ogden Theatre\, 935 E Colfax Ave\, Denver\, 80218
ATTACH;FMTTYPE=image/jpeg:https://128productions.com/wp-content/uploads/2025/06/Ayybo_1080x1350.jpg
END:VEVENT
BEGIN:VEVENT
DTSTART;TZID=America/Denver:20250920T200000
DTEND;TZID=America/Denver:20250921T020000
DTSTAMP:20260423T101647
CREATED:20250617T200213Z
LAST-MODIFIED:20250617T200213Z
UID:10000151-1758398400-1758420000@128productions.com
SUMMARY:D.O.D.
DESCRIPTION:
URL:https://128productions.com/event/d-o-d/
LOCATION:Ogden Theatre\, 935 E Colfax Ave\, Denver\, 80218
ATTACH;FMTTYPE=image/png:https://128productions.com/wp-content/uploads/2025/06/denver_dod_1080x1350v2.png
END:VEVENT
BEGIN:VEVENT
DTSTART;TZID=America/Denver:20250919T200000
DTEND;TZID=America/Denver:20250920T020000
DTSTAMP:20260423T101647
CREATED:20250623T152419Z
LAST-MODIFIED:20250623T152419Z
UID:10000159-1758312000-1758333600@128productions.com
SUMMARY:Disco Dom (Dombresky)
DESCRIPTION:
URL:https://128productions.com/event/disco-dom-dombresky/
LOCATION:Ogden Theatre\, 935 E Colfax Ave\, Denver\, 80218
ATTACH;FMTTYPE=image/jpeg:https://128productions.com/wp-content/uploads/2025/06/DiscoDom-OgdenTheatre-4x5-1-scaled.jpg
END:VEVENT
BEGIN:VEVENT
DTSTART;TZID=America/Denver:20250503T210000
DTEND;TZID=America/Denver:20250504T013000
DTSTAMP:20260423T101647
CREATED:20250401T195544Z
LAST-MODIFIED:20250401T195544Z
UID:10000135-1746306000-1746322200@128productions.com
SUMMARY:Snakehips
DESCRIPTION:
URL:https://128productions.com/event/snakehips-2/
LOCATION:Ogden Theatre\, 935 E Colfax Ave\, Denver\, 80218
ATTACH;FMTTYPE=image/jpeg:https://128productions.com/wp-content/uploads/2025/04/Snakehips_v2_1080x1350.jpg
END:VEVENT
BEGIN:VEVENT
DTSTART;TZID=America/Denver:20250315T210000
DTEND;TZID=America/Denver:20250315T233000
DTSTAMP:20260423T101647
CREATED:20250109T190419Z
LAST-MODIFIED:20250109T190419Z
UID:10000104-1742072400-1742081400@128productions.com
SUMMARY:Cassian
DESCRIPTION:
URL:https://128productions.com/event/cassian/
LOCATION:Ogden Theatre\, 935 E Colfax Ave\, Denver\, 80218
END:VEVENT
BEGIN:VEVENT
DTSTART;TZID=America/Denver:20250228T200000
DTEND;TZID=America/Denver:20250228T233000
DTSTAMP:20260423T101647
CREATED:20241203T003725Z
LAST-MODIFIED:20241203T003729Z
UID:10000094-1740772800-1740785400@128productions.com
SUMMARY:Max Styler
DESCRIPTION:
URL:https://128productions.com/event/max-styler/
LOCATION:Ogden Theatre\, 935 E Colfax Ave\, Denver\, 80218
ATTACH;FMTTYPE=image/jpeg:https://128productions.com/wp-content/uploads/2024/12/MaxStyler_1200x1200.jpg
END:VEVENT
BEGIN:VEVENT
DTSTART;TZID=America/Denver:20250124T200000
DTEND;TZID=America/Denver:20250124T233000
DTSTAMP:20260423T101647
CREATED:20241107T152702Z
LAST-MODIFIED:20241107T152702Z
UID:10000088-1737748800-1737761400@128productions.com
SUMMARY:Ship Wrek
DESCRIPTION:
URL:https://128productions.com/event/ship-wrek-2/
LOCATION:Ogden Theatre\, 935 E Colfax Ave\, Denver\, 80218
ATTACH;FMTTYPE=image/jpeg:https://128productions.com/wp-content/uploads/2024/11/ShipWrek_1200x1200-1.jpg
END:VEVENT
BEGIN:VEVENT
DTSTART;TZID=America/Denver:20250110T210000
DTEND;TZID=America/Denver:20250110T233000
DTSTAMP:20260423T101647
CREATED:20241022T064537Z
LAST-MODIFIED:20241022T064537Z
UID:10000082-1736542800-1736551800@128productions.com
SUMMARY:DJ Seinfeld
DESCRIPTION:
URL:https://128productions.com/event/dj-seinfeld/
LOCATION:Ogden Theatre\, 935 E Colfax Ave\, Denver\, 80218
ATTACH;FMTTYPE=image/jpeg:https://128productions.com/wp-content/uploads/2024/10/DJSeinfeld_2025_Ogden_564x564.jpg
END:VEVENT
BEGIN:VEVENT
DTSTART;TZID=America/Denver:20241220T200000
DTEND;TZID=America/Denver:20241220T233000
DTSTAMP:20260423T101647
CREATED:20240815T045121Z
LAST-MODIFIED:20240815T045158Z
UID:10000069-1734724800-1734737400@128productions.com
SUMMARY:KREAM
DESCRIPTION:
URL:https://128productions.com/event/kream/
LOCATION:Ogden Theatre\, 935 E Colfax Ave\, Denver\, 80218
ATTACH;FMTTYPE=image/jpeg:https://128productions.com/wp-content/uploads/2024/08/Kream_2024_Ogden_1200x1200.jpg
END:VEVENT
BEGIN:VEVENT
DTSTART;TZID=America/Denver:20241102T210000
DTEND;TZID=America/Denver:20241102T233000
DTSTAMP:20260423T101647
CREATED:20240717T154328Z
LAST-MODIFIED:20240717T154328Z
UID:10000060-1730581200-1730590200@128productions.com
SUMMARY:Kasablanca
DESCRIPTION:
URL:https://128productions.com/event/kasablanca/
LOCATION:Ogden Theatre\, 935 E Colfax Ave\, Denver\, 80218
ATTACH;FMTTYPE=image/jpeg:https://128productions.com/wp-content/uploads/2024/07/Kasablanca_2024_Ogden_564x564.jpg
END:VEVENT
BEGIN:VEVENT
DTSTART;TZID=America/Denver:20241019T200000
DTEND;TZID=America/Denver:20241019T233000
DTSTAMP:20260423T101647
CREATED:20240612T053925Z
LAST-MODIFIED:20240612T053925Z
UID:10000047-1729368000-1729380600@128productions.com
SUMMARY:it's murph
DESCRIPTION:
URL:https://128productions.com/event/its-murph/
LOCATION:Ogden Theatre\, 935 E Colfax Ave\, Denver\, 80218
ATTACH;FMTTYPE=image/jpeg:https://128productions.com/wp-content/uploads/2024/06/ItsMurph_564x564.jpg
END:VEVENT
BEGIN:VEVENT
DTSTART;TZID=America/Denver:20240824T200000
DTEND;TZID=America/Denver:20240824T233000
DTSTAMP:20260423T101647
CREATED:20240430T231828Z
LAST-MODIFIED:20240611T151704Z
UID:10000038-1724529600-1724542200@128productions.com
SUMMARY:ACRAZE
DESCRIPTION:
URL:https://128productions.com/event/acraze/
LOCATION:Ogden Theatre\, 935 E Colfax Ave\, Denver\, 80218
ATTACH;FMTTYPE=image/jpeg:https://128productions.com/wp-content/uploads/2024/04/ACRAZE_1200x1200.jpg
END:VEVENT
BEGIN:VEVENT
DTSTART;TZID=America/Denver:20240419T200000
DTEND;TZID=America/Denver:20240419T230000
DTSTAMP:20260423T101647
CREATED:20240405T015644Z
LAST-MODIFIED:20240405T195605Z
UID:10000010-1713556800-1713567600@128productions.com
SUMMARY:Dombresky
DESCRIPTION:
URL:https://128productions.com/event/dombresky/
LOCATION:Ogden Theatre\, 935 E Colfax Ave\, Denver\, 80218
CATEGORIES:Nightlife
ATTACH;FMTTYPE=image/jpeg:https://128productions.com/wp-content/uploads/2024/04/Dombresky_1200x1200-scaled-qJho9A.tmp_.jpg
END:VEVENT
END:VCALENDAR