BEGIN:VCALENDAR
VERSION:2.0
PRODID:-//128 Productions - ECPv6.15.18//NONSGML v1.0//EN
CALSCALE:GREGORIAN
METHOD:PUBLISH
X-WR-CALNAME:128 Productions
X-ORIGINAL-URL:https://128productions.com
X-WR-CALDESC:Events for 128 Productions
REFRESH-INTERVAL;VALUE=DURATION:PT1H
X-Robots-Tag:noindex
X-PUBLISHED-TTL:PT1H
BEGIN:VTIMEZONE
TZID:America/Denver
BEGIN:DAYLIGHT
TZOFFSETFROM:-0700
TZOFFSETTO:-0600
TZNAME:MDT
DTSTART:20250309T090000
END:DAYLIGHT
BEGIN:STANDARD
TZOFFSETFROM:-0600
TZOFFSETTO:-0700
TZNAME:MST
DTSTART:20251102T080000
END:STANDARD
BEGIN:DAYLIGHT
TZOFFSETFROM:-0700
TZOFFSETTO:-0600
TZNAME:MDT
DTSTART:20260308T090000
END:DAYLIGHT
BEGIN:STANDARD
TZOFFSETFROM:-0600
TZOFFSETTO:-0700
TZNAME:MST
DTSTART:20261101T080000
END:STANDARD
BEGIN:DAYLIGHT
TZOFFSETFROM:-0700
TZOFFSETTO:-0600
TZNAME:MDT
DTSTART:20270314T090000
END:DAYLIGHT
BEGIN:STANDARD
TZOFFSETFROM:-0600
TZOFFSETTO:-0700
TZNAME:MST
DTSTART:20271107T080000
END:STANDARD
END:VTIMEZONE
BEGIN:VEVENT
DTSTART;TZID=America/Denver:20260821T200000
DTEND;TZID=America/Denver:20260822T013000
DTSTAMP:20260423T085024
CREATED:20260312T182154Z
LAST-MODIFIED:20260312T182154Z
UID:10000220-1787342400-1787362200@128productions.com
SUMMARY:Starjunk95
DESCRIPTION:
URL:https://128productions.com/event/starjunk95/
LOCATION:Ogden Theatre\, 935 E Colfax Ave\, Denver\, 80218
ATTACH;FMTTYPE=image/jpeg:https://128productions.com/wp-content/uploads/2026/03/Starjunk95_2026_1080x1350.jpg
END:VEVENT
END:VCALENDAR