BEGIN:VCALENDAR
VERSION:2.0
PRODID:-//128 Productions - ECPv6.15.18//NONSGML v1.0//EN
CALSCALE:GREGORIAN
METHOD:PUBLISH
X-ORIGINAL-URL:https://128productions.com
X-WR-CALDESC:Events for 128 Productions
REFRESH-INTERVAL;VALUE=DURATION:PT1H
X-Robots-Tag:noindex
X-PUBLISHED-TTL:PT1H
BEGIN:VTIMEZONE
TZID:America/Denver
BEGIN:DAYLIGHT
TZOFFSETFROM:-0700
TZOFFSETTO:-0600
TZNAME:MDT
DTSTART:20230312T090000
END:DAYLIGHT
BEGIN:STANDARD
TZOFFSETFROM:-0600
TZOFFSETTO:-0700
TZNAME:MST
DTSTART:20231105T080000
END:STANDARD
BEGIN:DAYLIGHT
TZOFFSETFROM:-0700
TZOFFSETTO:-0600
TZNAME:MDT
DTSTART:20240310T090000
END:DAYLIGHT
BEGIN:STANDARD
TZOFFSETFROM:-0600
TZOFFSETTO:-0700
TZNAME:MST
DTSTART:20241103T080000
END:STANDARD
BEGIN:DAYLIGHT
TZOFFSETFROM:-0700
TZOFFSETTO:-0600
TZNAME:MDT
DTSTART:20250309T090000
END:DAYLIGHT
BEGIN:STANDARD
TZOFFSETFROM:-0600
TZOFFSETTO:-0700
TZNAME:MST
DTSTART:20251102T080000
END:STANDARD
END:VTIMEZONE
BEGIN:VEVENT
DTSTART;TZID=America/Denver:20241018T180000
DTEND;TZID=America/Denver:20241018T233000
DTSTAMP:20260423T114031
CREATED:20240730T052026Z
LAST-MODIFIED:20240730T052026Z
UID:10000064-1729274400-1729294200@128productions.com
SUMMARY:Gryffin
DESCRIPTION:
URL:https://128productions.com/event/gryffin/
LOCATION:Red Rocks\, 18300 W Alameda Pkwy\, Morrison\, 80465
ATTACH;FMTTYPE=image/jpeg:https://128productions.com/wp-content/uploads/2024/07/Gryffin_2024_RRX_1200x1200.jpg
END:VEVENT
BEGIN:VEVENT
DTSTART;TZID=America/Denver:20240927T180000
DTEND;TZID=America/Denver:20240927T230000
DTSTAMP:20260423T114031
CREATED:20240405T015956Z
LAST-MODIFIED:20240425T213628Z
UID:10000025-1727460000-1727478000@128productions.com
SUMMARY:Seven Lions
DESCRIPTION:
URL:https://128productions.com/event/seven-lions/
LOCATION:Red Rocks\, 18300 W Alameda Pkwy\, Morrison\, 80465
CATEGORIES:Nightlife
ATTACH;FMTTYPE=image/jpeg:https://128productions.com/wp-content/uploads/2024/03/SevenLions_2024_RRX_564x564-1.jpg
END:VEVENT
BEGIN:VEVENT
DTSTART;TZID=America/Denver:20240925T190000
DTEND;TZID=America/Denver:20240925T233000
DTSTAMP:20260423T114031
CREATED:20240619T233453Z
LAST-MODIFIED:20240619T233453Z
UID:10000051-1727290800-1727307000@128productions.com
SUMMARY:Bonobo
DESCRIPTION:
URL:https://128productions.com/event/bonobo/
LOCATION:Red Rocks\, 18300 W Alameda Pkwy\, Morrison\, 80465
ATTACH;FMTTYPE=image/jpeg:https://128productions.com/wp-content/uploads/2024/06/Bonobo_2024_RRX_564x564.jpg
END:VEVENT
BEGIN:VEVENT
DTSTART;TZID=America/Denver:20240830T170000
DTEND;TZID=America/Denver:20240830T230000
DTSTAMP:20260423T114031
CREATED:20240405T015934Z
LAST-MODIFIED:20240425T214655Z
UID:10000021-1725037200-1725058800@128productions.com
SUMMARY:Rezz Rocks VI
DESCRIPTION:
URL:https://128productions.com/event/rezz-rocks-vi/
LOCATION:Red Rocks\, 18300 W Alameda Pkwy\, Morrison\, 80465
CATEGORIES:Nightlife
ATTACH;FMTTYPE=image/jpeg:https://128productions.com/wp-content/uploads/2024/03/Rezz_2024_RRX_564x564-1.jpg
END:VEVENT
BEGIN:VEVENT
DTSTART;TZID=America/Denver:20240412T173000
DTEND;TZID=America/Denver:20240412T230000
DTSTAMP:20260423T114031
CREATED:20240405T015644Z
LAST-MODIFIED:20240409T182234Z
UID:10000008-1712943000-1712962800@128productions.com
SUMMARY:Elderbrook + Cannons
DESCRIPTION:
URL:https://128productions.com/event/elderbrook-cannons/
LOCATION:Red Rocks\, 18300 W Alameda Pkwy\, Morrison\, 80465
CATEGORIES:Nightlife
ATTACH;FMTTYPE=image/jpeg:https://128productions.com/wp-content/uploads/2024/03/Elderbrook_2024_RRX_564x564-1.jpg
END:VEVENT
END:VCALENDAR